BEGIN:VCALENDAR
VERSION:2.0
PRODID:-//Schützengilde Ravensburg 1469 e.V. - ECPv6.15.20//NONSGML v1.0//EN
CALSCALE:GREGORIAN
METHOD:PUBLISH
X-ORIGINAL-URL:https://sgi-ravensburg.de
X-WR-CALDESC:Veranstaltungen für Schützengilde Ravensburg 1469 e.V.
REFRESH-INTERVAL;VALUE=DURATION:PT1H
X-Robots-Tag:noindex
X-PUBLISHED-TTL:PT1H
BEGIN:VTIMEZONE
TZID:Europe/Paris
BEGIN:DAYLIGHT
TZOFFSETFROM:+0100
TZOFFSETTO:+0200
TZNAME:CEST
DTSTART:20210328T010000
END:DAYLIGHT
BEGIN:STANDARD
TZOFFSETFROM:+0200
TZOFFSETTO:+0100
TZNAME:CET
DTSTART:20211031T010000
END:STANDARD
BEGIN:DAYLIGHT
TZOFFSETFROM:+0100
TZOFFSETTO:+0200
TZNAME:CEST
DTSTART:20220327T010000
END:DAYLIGHT
BEGIN:STANDARD
TZOFFSETFROM:+0200
TZOFFSETTO:+0100
TZNAME:CET
DTSTART:20221030T010000
END:STANDARD
BEGIN:DAYLIGHT
TZOFFSETFROM:+0100
TZOFFSETTO:+0200
TZNAME:CEST
DTSTART:20230326T010000
END:DAYLIGHT
BEGIN:STANDARD
TZOFFSETFROM:+0200
TZOFFSETTO:+0100
TZNAME:CET
DTSTART:20231029T010000
END:STANDARD
END:VTIMEZONE
BEGIN:VEVENT
DTSTART;TZID=Europe/Paris:20221106T090000
DTEND;TZID=Europe/Paris:20221106T160000
DTSTAMP:20260426T020728
CREATED:20220902T040749Z
LAST-MODIFIED:20220902T041732Z
UID:1792-1667725200-1667750400@sgi-ravensburg.de
SUMMARY:Herbst- und Königsschießen 2022
DESCRIPTION:
URL:https://sgi-ravensburg.de/event/herbst-und-koenigsschiessen-2022/
LOCATION:SGi Ravensburg\, Höll 38\, Ravensburg\, 88212\, Deutschland
CATEGORIES:Termine
END:VEVENT
END:VCALENDAR