BEGIN:VCALENDAR
VERSION:2.0
PRODID:-//Schützengilde Ravensburg 1469 e.V. - ECPv6.15.20//NONSGML v1.0//EN
CALSCALE:GREGORIAN
METHOD:PUBLISH
X-WR-CALNAME:Schützengilde Ravensburg 1469 e.V.
X-ORIGINAL-URL:https://sgi-ravensburg.de
X-WR-CALDESC:Veranstaltungen für Schützengilde Ravensburg 1469 e.V.
REFRESH-INTERVAL;VALUE=DURATION:PT1H
X-Robots-Tag:noindex
X-PUBLISHED-TTL:PT1H
BEGIN:VTIMEZONE
TZID:Europe/Paris
BEGIN:DAYLIGHT
TZOFFSETFROM:+0100
TZOFFSETTO:+0200
TZNAME:CEST
DTSTART:20210328T010000
END:DAYLIGHT
BEGIN:STANDARD
TZOFFSETFROM:+0200
TZOFFSETTO:+0100
TZNAME:CET
DTSTART:20211031T010000
END:STANDARD
BEGIN:DAYLIGHT
TZOFFSETFROM:+0100
TZOFFSETTO:+0200
TZNAME:CEST
DTSTART:20220327T010000
END:DAYLIGHT
BEGIN:STANDARD
TZOFFSETFROM:+0200
TZOFFSETTO:+0100
TZNAME:CET
DTSTART:20221030T010000
END:STANDARD
BEGIN:DAYLIGHT
TZOFFSETFROM:+0100
TZOFFSETTO:+0200
TZNAME:CEST
DTSTART:20230326T010000
END:DAYLIGHT
BEGIN:STANDARD
TZOFFSETFROM:+0200
TZOFFSETTO:+0100
TZNAME:CET
DTSTART:20231029T010000
END:STANDARD
END:VTIMEZONE
BEGIN:VEVENT
DTSTART;VALUE=DATE:20221210
DTEND;VALUE=DATE:20221212
DTSTAMP:20260426T003544
CREATED:20221128T110241Z
LAST-MODIFIED:20221128T110241Z
UID:1873-1670630400-1670803199@sgi-ravensburg.de
SUMMARY:Kreismeisterschaft Bogen 2023
DESCRIPTION:
URL:https://sgi-ravensburg.de/event/kreismeisterschaft-bogen-2023/
LOCATION:SV Berg\, Stockäcker 1\, Berg\, 88276\, Deutschland
CATEGORIES:Bogen,DSB,Termine
END:VEVENT
END:VCALENDAR