BEGIN:VCALENDAR
VERSION:2.0
PRODID:-//Schützengilde Ravensburg 1469 e.V. - ECPv6.15.20//NONSGML v1.0//EN
CALSCALE:GREGORIAN
METHOD:PUBLISH
X-WR-CALNAME:Schützengilde Ravensburg 1469 e.V.
X-ORIGINAL-URL:https://sgi-ravensburg.de
X-WR-CALDESC:Veranstaltungen für Schützengilde Ravensburg 1469 e.V.
REFRESH-INTERVAL;VALUE=DURATION:PT1H
X-Robots-Tag:noindex
X-PUBLISHED-TTL:PT1H
BEGIN:VTIMEZONE
TZID:Europe/Paris
BEGIN:DAYLIGHT
TZOFFSETFROM:+0100
TZOFFSETTO:+0200
TZNAME:CEST
DTSTART:20220327T010000
END:DAYLIGHT
BEGIN:STANDARD
TZOFFSETFROM:+0200
TZOFFSETTO:+0100
TZNAME:CET
DTSTART:20221030T010000
END:STANDARD
BEGIN:DAYLIGHT
TZOFFSETFROM:+0100
TZOFFSETTO:+0200
TZNAME:CEST
DTSTART:20230326T010000
END:DAYLIGHT
BEGIN:STANDARD
TZOFFSETFROM:+0200
TZOFFSETTO:+0100
TZNAME:CET
DTSTART:20231029T010000
END:STANDARD
BEGIN:DAYLIGHT
TZOFFSETFROM:+0100
TZOFFSETTO:+0200
TZNAME:CEST
DTSTART:20240331T010000
END:DAYLIGHT
BEGIN:STANDARD
TZOFFSETFROM:+0200
TZOFFSETTO:+0100
TZNAME:CET
DTSTART:20241027T010000
END:STANDARD
END:VTIMEZONE
BEGIN:VEVENT
DTSTART;VALUE=DATE:20230310
DTEND;VALUE=DATE:20230312
DTSTAMP:20260425T191141
CREATED:20221128T105847Z
LAST-MODIFIED:20221128T105847Z
UID:1867-1678406400-1678579199@sgi-ravensburg.de
SUMMARY:Landeskönigsschießen
DESCRIPTION:
URL:https://sgi-ravensburg.de/event/landeskoenigsschiessen/
CATEGORIES:DSB,Schützenkreis Ravensburg,Termine
END:VEVENT
BEGIN:VEVENT
DTSTART;TZID=Europe/Paris:20230318T080000
DTEND;TZID=Europe/Paris:20230319T170000
DTSTAMP:20260425T191141
CREATED:20221128T110925Z
LAST-MODIFIED:20221226T134315Z
UID:1883-1679126400-1679245200@sgi-ravensburg.de
SUMMARY:BDS BM Alb-Bodensee Teil II
DESCRIPTION:
URL:https://sgi-ravensburg.de/event/bm-alb-bodensee-teil-ii/
LOCATION:SGes Friedrichshafen\, Heiseloch 8\, Friedrichshafen\, 88045\, Deutschland
CATEGORIES:BDS,Termine
END:VEVENT
BEGIN:VEVENT
DTSTART;TZID=Europe/Paris:20230322T170000
DTEND;TZID=Europe/Paris:20230322T200000
DTSTAMP:20260425T191141
CREATED:20230130T164213Z
LAST-MODIFIED:20230130T164811Z
UID:1972-1679504400-1679515200@sgi-ravensburg.de
SUMMARY:DSB KM 2023 in RV
DESCRIPTION:Großkaliberdisziplinen
URL:https://sgi-ravensburg.de/event/dsb-km-in-rv/
LOCATION:SGi Ravensburg\, Höll 38\, Ravensburg\, 88212\, Deutschland
CATEGORIES:DSB,Schützenkreis Ravensburg,Termine
END:VEVENT
BEGIN:VEVENT
DTSTART;TZID=Europe/Paris:20230324T180000
DTEND;TZID=Europe/Paris:20230324T200000
DTSTAMP:20260425T191141
CREATED:20230228T205214Z
LAST-MODIFIED:20230228T205429Z
UID:2015-1679680800-1679688000@sgi-ravensburg.de
SUMMARY:Hauptversammlung 2023
DESCRIPTION:
URL:https://sgi-ravensburg.de/event/jhv-2023/
LOCATION:SGi Ravensburg\, Höll 38\, Ravensburg\, 88212\, Deutschland
CATEGORIES:Termine
END:VEVENT
BEGIN:VEVENT
DTSTART;TZID=Europe/Paris:20230325T150000
DTEND;TZID=Europe/Paris:20230325T180000
DTSTAMP:20260425T191141
CREATED:20230130T164403Z
LAST-MODIFIED:20230130T164620Z
UID:1974-1679756400-1679767200@sgi-ravensburg.de
SUMMARY:DSB KM 2023 in RV
DESCRIPTION:Großkaliberdisziplinen
URL:https://sgi-ravensburg.de/event/dsb-km-in-rv-2/
LOCATION:SGi Ravensburg\, Höll 38\, Ravensburg\, 88212\, Deutschland
CATEGORIES:DSB,Schützenkreis Ravensburg,Termine
END:VEVENT
BEGIN:VEVENT
DTSTART;TZID=Europe/Paris:20230329T170000
DTEND;TZID=Europe/Paris:20230329T200000
DTSTAMP:20260425T191141
CREATED:20230130T164526Z
LAST-MODIFIED:20230130T164605Z
UID:1976-1680109200-1680120000@sgi-ravensburg.de
SUMMARY:DSB KM 2023 in RV
DESCRIPTION:Großkaliberdisziplinen
URL:https://sgi-ravensburg.de/event/dsb-km-in-rv-3/
LOCATION:SGi Ravensburg\, Höll 38\, Ravensburg\, 88212\, Deutschland
CATEGORIES:DSB,Schützenkreis Ravensburg,Termine
END:VEVENT
END:VCALENDAR