BEGIN:VCALENDAR
VERSION:2.0
PRODID:-//Schützengilde Ravensburg 1469 e.V. - ECPv6.15.20//NONSGML v1.0//EN
CALSCALE:GREGORIAN
METHOD:PUBLISH
X-ORIGINAL-URL:https://sgi-ravensburg.de
X-WR-CALDESC:Veranstaltungen für Schützengilde Ravensburg 1469 e.V.
REFRESH-INTERVAL;VALUE=DURATION:PT1H
X-Robots-Tag:noindex
X-PUBLISHED-TTL:PT1H
BEGIN:VTIMEZONE
TZID:Europe/Paris
BEGIN:DAYLIGHT
TZOFFSETFROM:+0100
TZOFFSETTO:+0200
TZNAME:CEST
DTSTART:20220327T010000
END:DAYLIGHT
BEGIN:STANDARD
TZOFFSETFROM:+0200
TZOFFSETTO:+0100
TZNAME:CET
DTSTART:20221030T010000
END:STANDARD
BEGIN:DAYLIGHT
TZOFFSETFROM:+0100
TZOFFSETTO:+0200
TZNAME:CEST
DTSTART:20230326T010000
END:DAYLIGHT
BEGIN:STANDARD
TZOFFSETFROM:+0200
TZOFFSETTO:+0100
TZNAME:CET
DTSTART:20231029T010000
END:STANDARD
BEGIN:DAYLIGHT
TZOFFSETFROM:+0100
TZOFFSETTO:+0200
TZNAME:CEST
DTSTART:20240331T010000
END:DAYLIGHT
BEGIN:STANDARD
TZOFFSETFROM:+0200
TZOFFSETTO:+0100
TZNAME:CET
DTSTART:20241027T010000
END:STANDARD
END:VTIMEZONE
BEGIN:VEVENT
DTSTART;VALUE=DATE:20230401
DTEND;VALUE=DATE:20230403
DTSTAMP:20260425T172341
CREATED:20221128T110028Z
LAST-MODIFIED:20230331T064630Z
UID:1871-1680307200-1680479999@sgi-ravensburg.de
SUMMARY:DSB Kreismeisterschaften 2023
DESCRIPTION:ausschreibung kreismeisterschaft 2023 gesamt
URL:https://sgi-ravensburg.de/event/kreismeisterschaften-2023-2/
CATEGORIES:DSB,Schützenbezirk Oberschwaben,Schützenkreis Ravensburg,Termine
END:VEVENT
BEGIN:VEVENT
DTSTART;TZID=Europe/Paris:20230426T190000
DTEND;TZID=Europe/Paris:20230426T203000
DTSTAMP:20260425T172341
CREATED:20230426T141927Z
LAST-MODIFIED:20230426T141927Z
UID:2029-1682535600-1682541000@sgi-ravensburg.de
SUMMARY:RWK GK GK     RV 1 : Bad Waldsee
DESCRIPTION:
URL:https://sgi-ravensburg.de/event/rwk-gk-gk-rv-1-bad-waldsee/
LOCATION:SGi Ravensburg\, Höll 38\, Ravensburg\, 88212\, Deutschland
CATEGORIES:DSB,Termine
END:VEVENT
END:VCALENDAR