BEGIN:VCALENDAR
VERSION:2.0
PRODID:-//Schützengilde Ravensburg 1469 e.V. - ECPv6.15.20//NONSGML v1.0//EN
CALSCALE:GREGORIAN
METHOD:PUBLISH
X-ORIGINAL-URL:https://sgi-ravensburg.de
X-WR-CALDESC:Veranstaltungen für Schützengilde Ravensburg 1469 e.V.
REFRESH-INTERVAL;VALUE=DURATION:PT1H
X-Robots-Tag:noindex
X-PUBLISHED-TTL:PT1H
BEGIN:VTIMEZONE
TZID:Europe/Paris
BEGIN:DAYLIGHT
TZOFFSETFROM:+0100
TZOFFSETTO:+0200
TZNAME:CEST
DTSTART:20220327T010000
END:DAYLIGHT
BEGIN:STANDARD
TZOFFSETFROM:+0200
TZOFFSETTO:+0100
TZNAME:CET
DTSTART:20221030T010000
END:STANDARD
BEGIN:DAYLIGHT
TZOFFSETFROM:+0100
TZOFFSETTO:+0200
TZNAME:CEST
DTSTART:20230326T010000
END:DAYLIGHT
BEGIN:STANDARD
TZOFFSETFROM:+0200
TZOFFSETTO:+0100
TZNAME:CET
DTSTART:20231029T010000
END:STANDARD
BEGIN:DAYLIGHT
TZOFFSETFROM:+0100
TZOFFSETTO:+0200
TZNAME:CEST
DTSTART:20240331T010000
END:DAYLIGHT
BEGIN:STANDARD
TZOFFSETFROM:+0200
TZOFFSETTO:+0100
TZNAME:CET
DTSTART:20241027T010000
END:STANDARD
END:VTIMEZONE
BEGIN:VEVENT
DTSTART;TZID=Europe/Paris:20230510T190000
DTEND;TZID=Europe/Paris:20230510T190000
DTSTAMP:20260425T152143
CREATED:20230426T142022Z
LAST-MODIFIED:20230426T142022Z
UID:2031-1683745200-1683745200@sgi-ravensburg.de
SUMMARY:Siegerehrung Frühjahrsmeisterschaft
DESCRIPTION:
URL:https://sgi-ravensburg.de/event/siegerehrung-fruehjahrsmeisterschaft/
LOCATION:SGi Ravensburg\, Höll 38\, Ravensburg\, 88212\, Deutschland
CATEGORIES:BDS,DSB,Termine
END:VEVENT
BEGIN:VEVENT
DTSTART;TZID=Europe/Paris:20230517T190000
DTEND;TZID=Europe/Paris:20230517T203000
DTSTAMP:20260425T152143
CREATED:20230504T130647Z
LAST-MODIFIED:20230504T130647Z
UID:2037-1684350000-1684355400@sgi-ravensburg.de
SUMMARY:RWK GK RV3 : BadWaldsee3
DESCRIPTION:
URL:https://sgi-ravensburg.de/event/rwk-gk-rv3-badwaldsee3/
LOCATION:SGi Ravensburg\, Höll 38\, Ravensburg\, 88212\, Deutschland
CATEGORIES:DSB,Termine
END:VEVENT
BEGIN:VEVENT
DTSTART;TZID=Europe/Paris:20230524T190000
DTEND;TZID=Europe/Paris:20230524T203000
DTSTAMP:20260425T152143
CREATED:20230426T142123Z
LAST-MODIFIED:20240424T043940Z
UID:2033-1684954800-1684960200@sgi-ravensburg.de
SUMMARY:RWK GK    RV 1 : SV Oberteuringen
DESCRIPTION:
URL:https://sgi-ravensburg.de/event/rwk-gk-rv-1-sv-oberteuringen/
LOCATION:SGi Ravensburg\, Höll 38\, Ravensburg\, 88212\, Deutschland
CATEGORIES:DSB,Termine
END:VEVENT
END:VCALENDAR